BEGIN:VCALENDAR
VERSION:2.0
PRODID:-//Hershey Symphony Orchestra - ECPv6.15.20//NONSGML v1.0//EN
CALSCALE:GREGORIAN
METHOD:PUBLISH
X-ORIGINAL-URL:https://hersheysymphony.org
X-WR-CALDESC:Events for Hershey Symphony Orchestra
REFRESH-INTERVAL;VALUE=DURATION:PT1H
X-Robots-Tag:noindex
X-PUBLISHED-TTL:PT1H
BEGIN:VTIMEZONE
TZID:America/New_York
BEGIN:DAYLIGHT
TZOFFSETFROM:-0500
TZOFFSETTO:-0400
TZNAME:EDT
DTSTART:20250309T070000
END:DAYLIGHT
BEGIN:STANDARD
TZOFFSETFROM:-0400
TZOFFSETTO:-0500
TZNAME:EST
DTSTART:20251102T060000
END:STANDARD
BEGIN:DAYLIGHT
TZOFFSETFROM:-0500
TZOFFSETTO:-0400
TZNAME:EDT
DTSTART:20260308T070000
END:DAYLIGHT
BEGIN:STANDARD
TZOFFSETFROM:-0400
TZOFFSETTO:-0500
TZNAME:EST
DTSTART:20261101T060000
END:STANDARD
BEGIN:DAYLIGHT
TZOFFSETFROM:-0500
TZOFFSETTO:-0400
TZNAME:EDT
DTSTART:20270314T070000
END:DAYLIGHT
BEGIN:STANDARD
TZOFFSETFROM:-0400
TZOFFSETTO:-0500
TZNAME:EST
DTSTART:20271107T060000
END:STANDARD
END:VTIMEZONE
BEGIN:VEVENT
DTSTART;TZID=America/New_York:20260517T160000
DTEND;TZID=America/New_York:20260517T200000
DTSTAMP:20260421T175239
CREATED:20260421T162259Z
LAST-MODIFIED:20260421T162533Z
UID:3023-1779033600-1779048000@hersheysymphony.org
SUMMARY:Audition Day 2026
DESCRIPTION:Ready to make music with the Hershey Symphony Orchestra? We’ll be holding a special audition day on Sunday\, May 17\, 2026. For details and to register for a time slot\, please click here. \nThe Hershey Symphony is a volunteer orchestra dedicated to bringing musical excellence to the Central Pennsylvania area. If you are interested in joining our ensemble\, please sign up for an audition slot using the form linked above.
URL:https://hersheysymphony.org/event/audition-day-2026/
LOCATION:Hershey Free Church\, 330 Hilltop Rd\, Hummelstown\, PA\, 17036\, United States
ATTACH;FMTTYPE=image/jpeg:https://hersheysymphony.org/wp-content/uploads/winds-Hershey-Symphony-scaled.jpg
END:VEVENT
END:VCALENDAR